BEGIN:VCALENDAR

PRODID:icalendar-ruby
CALSCALE:GREGORIAN
METHOD:REQUEST
BEGIN:VEVENT
DTSTAMP:20210617T101700Z
UID:a87bff6d-2278-4f60-bf72-ad0a0a1dc1cf
DTSTART:20171019T053000Z
DTEND:20171019T090000Z
DESCRIPTION:\n\nGDPR IS HERE. GET READY TODAY\n\nהאם הארגון שלך מחזיק 
 במידע אישי על אזרחי האיחוד האירופאי?\n\nבמאי 2018 תכנסנה לתוקפן תקנות 
 האיחודהחדשות\, המחייבות\, בין היתר עדכון הרגולטור והנפגעים\, במקרה של 
 מתקפת סייבר וזליגת מידע תוך 72 שעות\, לכל המאוחר.\n\nהאם ארגונך כבר ער
 וך טכנולוגית ל-GDPR?\n\nטנגרם סופט ו-IBM מזמינות אותך למפגש אשר יעזור 
 לך להתכונן\n\n\nאנו ממליצים להתעדכן באתר מידי פעם ולוודא שהמיקום או תא
 ריך האירוע לא שונה: https://tangram-ibm.events.co.il/home
LAST-MODIFIED:20200525T145801
LOCATION:מלון הרודס\, רחוב העוגן 11 הרצליה
ORGANIZER;CN=People & Computers:mailto:events@thepeople.co.il
SUMMARY:TANGRAM SOFT & IBM
URL:https://tangram-ibm.events.co.il/home
BEGIN:VALARM
ACTION:DISPLAY
TRIGGER:-P1D
DESCRIPTION:REMINDER
SUMMARY:TANGRAM SOFT & IBM מחר בשעה 08:30!
END:VALARM
END:VEVENT
END:VCALENDAR
