BEGIN:VCALENDAR
VERSION:2.0
PRODID:icalendar-ruby
CALSCALE:GREGORIAN
METHOD:REQUEST
BEGIN:VEVENT
DTSTAMP:20210617T101728Z
UID:d7bab6c5-8f63-4f77-9349-d69712678274
DTSTART:20170926T053000Z
DTEND:20170926T133000Z
DESCRIPTION:\n\nכנס המחשוב השנתי למגזר הממשלתי\n\nהטכנולוגיות של מחר T
 oday\n\n\nאנו ממליצים להתעדכן באתר מידי פעם ולוודא שהמיקום או תאריך הא
 ירוע לא שונה: https://harel2017.events.co.il/home
LAST-MODIFIED:20200525T145732
LOCATION:מלון אוריינט\, עמק רפאים 3 ירושלים 
ORGANIZER;CN=People & Computers:mailto:events@thepeople.co.il
SUMMARY:Harel 2017
URL:https://harel2017.events.co.il/home
BEGIN:VALARM
ACTION:DISPLAY
TRIGGER:-P1D
DESCRIPTION:REMINDER
SUMMARY:Harel 2017 מחר בשעה 08:30!
END:VALARM
END:VEVENT
END:VCALENDAR
