BEGIN:VCALENDAR
VERSION:2.0
PRODID:icalendar-ruby
CALSCALE:GREGORIAN
METHOD:REQUEST
BEGIN:VEVENT
DTSTAMP:20210604T074511Z
UID:21a403c5-dfa7-4eb7-9c6b-90e04819f661
DTSTART:20180619T053000Z
DTEND:20180619T133000Z
DESCRIPTION:\n\nOrganizational Agility\n\n\n"It Is Not the Strongest o
 f the Species that Survives But the Most Adaptable".\n\n--- Charles Da
 rwin\n\n\nFor many people Agile isAgile software development\, butOrga
 nizational Agility is the ability of the organization to respond fast 
 and succeed in a rapidly changing\, ambiguous\, turbulent environment.
  Therefore is about a wider perspective that covers the whole cycle fr
 om exploring options\, business models\, through identifying the right
  product and features\, into the build\, delivery deployment phases\, 
 monitoring\, measuring and learning that feeds the cycle back to explo
 ration.\n\nAgile Israel 2018\, the central Agile event in Israel runni
 ng for the 11th consecutive year\, bringing world class agile experts 
 and inspiring case studies to help you learn tips and tricks that can 
 be applied in your organization to expand your Agile/DevOps implementa
 tions to reach real business agility.\n\n\n\nStay updated on latest ch
 anges at the conference website: https://agile-2018.events.co.il/home
LAST-MODIFIED:20201207T144009
LOCATION:LAGO\, Hamea Veesrim 6\, Lake Park\, Rishon Lezion West
ORGANIZER;CN=People & Computers:mailto:events@thepeople.co.il
SUMMARY:Agile Israel 2018
URL:https://agile-2018.events.co.il/home
BEGIN:VALARM
ACTION:DISPLAY
TRIGGER:-P1D
DESCRIPTION:REMINDER
SUMMARY:Agile Israel 2018 Tomorrow At 08:30!
END:VALARM
END:VEVENT
END:VCALENDAR
