BEGIN:VCALENDAR
VERSION:2.0
PRODID:icalendar-ruby
CALSCALE:GREGORIAN
METHOD:REQUEST
BEGIN:VEVENT
DTSTAMP:20210617T101716Z
UID:1dd66326-8d28-4685-8d0a-a149e9d7aebd
DTSTART:20171018T050000Z
DTEND:20171018T130000Z
DESCRIPTION:\n\nNVIDIA’s GPU Technology Conference Israel \n\n\n\nREGI
 STRATION FOR GTC ISRAEL\n\nSAVE 20% ON CONFERENCE & TRAINING PASS WITH
  DISCOUNT CODE DLIGTCIL. REGISTER BY 8TH SEPTEMBER.\n\n\nStay updated 
 on latest changes at the conference website: https://gpu.events.co.il/
 home
LAST-MODIFIED:20200525T145712
LOCATION:Pavilion 2\, Tel Aviv Convention Center
ORGANIZER;CN=People & Computers:mailto:events@thepeople.co.il
SUMMARY:GPU Technology Conference
URL:https://gpu.events.co.il/home
BEGIN:VALARM
ACTION:DISPLAY
TRIGGER:-P1D
DESCRIPTION:REMINDER
SUMMARY:GPU Technology Conference Tomorrow At 08:00!
END:VALARM
END:VEVENT
END:VCALENDAR
