BEGIN:VCALENDAR
VERSION:2.0
PRODID:icalendar-ruby
CALSCALE:GREGORIAN
METHOD:REQUEST
BEGIN:VEVENT
DTSTAMP:20210617T101753Z
UID:60d6f31b-86d7-4460-9f4c-aeb0ce43df84
DTSTART:20170627T060000Z
DTEND:20170627T100000Z
DESCRIPTION:\n\nDynatrace Perform TLV\n\nDynatrace is redefining the w
 ay you think of monitoring these days. If its about User experience\, 
 service availability\, cloud\, containers\, Docker\, Kubernetes\, AI i
 n monitoring\, or anything else\, Dynatrace today is changing the way 
 you will need to handle it. Join us on this annual exciting event in o
 rder to understand how Dynatrace can support your current and future c
 hallenges. The event will showcase the latest technologies and will ho
 st Mr. Michael Allen\, Dynatrace VP EMEA\, as a keynote speaker. Addit
 ionally\, two customer case studies will be told\n\n\nStay updated on 
 latest changes at the conference website: https://dynatrace-perform-tl
 v.events.co.il/home
LAST-MODIFIED:20200525T145749
LOCATION:גלריית דובנוב\, דובנוב 8\, ת"א
ORGANIZER;CN=People & Computers:mailto:events@thepeople.co.il
SUMMARY:Dynatrace Perform TLV
URL:https://dynatrace-perform-tlv.events.co.il/home
BEGIN:VALARM
ACTION:DISPLAY
TRIGGER:-P1D
DESCRIPTION:REMINDER
SUMMARY:Dynatrace Perform TLV Tomorrow At 09:00!
END:VALARM
END:VEVENT
END:VCALENDAR
