BEGIN:VCALENDAR

PRODID:icalendar-ruby
CALSCALE:GREGORIAN
METHOD:REQUEST
BEGIN:VEVENT
DTSTAMP:20210617T101734Z
UID:cf51ed29-1c90-4ff7-a532-bb4e7f0b17e1
DTSTART:20170629T060000Z
DTEND:20170629T113000Z
DESCRIPTION:\n\nAnsible is the simplest way to automate\n\nIt is a pow
 erful IT automation engine that thousands of companies are using to dr
 ive complexity out of their environments and accelerate DevOps initiat
 ives. At the "Ansible Automates Tel Aviv" event experts and industry t
 hought leaders will present on trending topics focused around automati
 on\, Ansible and Ansible Tower. At the conference people will learn ho
 w automation can impact your team and business in becoming more effici
 ent\, reduce time-consuming processes and therefore increase productiv
 ity.\n\nThis year we will have the following 3 Ansible Experts on stag
 e\n\nJoshua Ginsberg\, Chief Architect at Ansible by Red Hat\n\nPhil C
 ornelius\, Senior Specialist Solution Architect at Ansible by Red Hat\
 n\nBenjamin Strauss\, Ansible Sales & Busines Development at Ansible b
 y Red Hat\n\nRegister Here\n\n\nStay updated on latest changes at the 
 conference website: https://redhat.events.co.il/home
LAST-MODIFIED:20200525T145804
LOCATION:Arca Business Club\, Namal Tel-Aviv St. 16\, Tel Aviv
ORGANIZER;CN=People & Computers:mailto:events@thepeople.co.il
SUMMARY:Red Hat 
URL:https://redhat.events.co.il/home
BEGIN:VALARM
ACTION:DISPLAY
TRIGGER:-P1D
DESCRIPTION:REMINDER
SUMMARY:Red Hat  Tomorrow At 09:00!
END:VALARM
END:VEVENT
END:VCALENDAR
