BEGIN:VCALENDAR

PRODID:icalendar-ruby
CALSCALE:GREGORIAN
METHOD:REQUEST
BEGIN:VEVENT
DTSTAMP:20210625T112345Z
UID:bd0f6ff5-8c16-4312-a40b-8d5b898b04a2
DTSTART:20170321T070000Z
DTEND:20170321T103000Z
DESCRIPTION:\n\nBUILT FOR FAST. BUILT FOR FREEDOM.\n\nבעידן שבו אנו מי
 יצרים וצורכים מידע יותר מאשר בכל זמן אחר בהיסטוריה\,\n\nלכולם כבר ברור
   ידע הוא כוח\, בעיקר כשיודעים איך להשתמש בו ובעיקר כיצד למנף אותו לתו
 עלות עסקיות.\n\nVERTICA ישראל גאה להזמינך לכנס שכולו BIG DATA!\n\nאת ה
 כנס יפתחו אילן נימני מנהל איזור רוסיה\, מזרח אירופה וישראל ו- \,Colin 
 Mahony מנכ"ל VERTICA העולמית.\n\nהכנס בהשתתפות:\n\nBruce Jones  WW Sal
 es VP\, Vertica\n\nJoy King - Product Marketing \,Vertica Product Mana
 gement & Field Engagement\n\nבכנס יוצגו סיפורי לקוח שידעו להפוך את המי
 דע למרכז ההצלחה העיסקית.\n\n\n\nמהרו להירשם!\n\n\nאנו ממליצים להתעדכן 
 באתר מידי פעם ולוודא שהמיקום או תאריך האירוע לא שונה: https://vertica.
 events.co.il/home
LAST-MODIFIED:20201207T143149
LOCATION:מרכז פרס לשלום וחדשנות\, רח' קדם 132\, תל אביב
ORGANIZER;CN=People & Computers:mailto:events@thepeople.co.il
SUMMARY:VERTICA
URL:https://vertica.events.co.il/home
BEGIN:VALARM
ACTION:DISPLAY
TRIGGER:-P1D
DESCRIPTION:REMINDER
SUMMARY:VERTICA מחר בשעה 09:00!
END:VALARM
END:VEVENT
END:VCALENDAR
