BEGIN:VCALENDAR

PRODID:icalendar-ruby
CALSCALE:GREGORIAN
METHOD:REQUEST
BEGIN:VEVENT
DTSTAMP:20210625T112335Z
UID:95745dda-f588-44aa-9ef4-add8f22bbad7
DTSTART:20170328T050000Z
DTEND:20170328T110000Z
DESCRIPTION:\n\nSECURITY SUMMIT\n\nWe are welcoming you to join our fi
 rst Security Summit in Israel. We will be presenting our most advanced
  Next Generation security platform.\nFocusing on prevention\, the Palo
  Alto Networks Next-Generation Security Platform reduces cybersecurity
  risk to a manageable degree\, allowing organizations to compartmental
 ize their most serious threats and focus on business operations.\nLook
 ing forward seeing you at our event!\n\n\nStay updated on latest chang
 es at the conference website: https://palo-alto-networks.events.co.il/
 home
LAST-MODIFIED:20210203T091156
LOCATION:LAGO\, Hamea Veesrim 6\, Lake Park\, Rishon Lezion West
ORGANIZER;CN=People & Computers:mailto:events@thepeople.co.il
SUMMARY:PALO ALTO NETWORKS 
URL:https://palo-alto-networks.events.co.il/home
BEGIN:VALARM
ACTION:DISPLAY
TRIGGER:-P1D
DESCRIPTION:REMINDER
SUMMARY:PALO ALTO NETWORKS  Tomorrow At 08:00!
END:VALARM
END:VEVENT
END:VCALENDAR
