BEGIN:VCALENDAR

PRODID:icalendar-ruby
CALSCALE:GREGORIAN
METHOD:REQUEST
BEGIN:VEVENT
DTSTAMP:20210625T112449Z
UID:a1dcd915-76db-4a32-975d-19e34c333d66
DTSTART:20170305T163000Z
DTEND:20170305T210000Z
DESCRIPTION:\n\nניו אייג' ורוחניות מתחברים למדע וטכנולוגיה \n\nחברי קה
 ילה יקרים\,\n\nערב חד פעמי עם ד"ר דיפאק צ'ופרה\, הרופא המפורסם בעולם\,
  גורו לרפואת הגוף והנפש\, ומי שהוכתר כאחד מ- 100 האנשים המשפיעים ביותר
  במאה העשרים. \n\nדיפאק\, שמכר כבר מעל 50 מיליון עותקים מספריו\, ישתף 
 את הקהל בתפיסת עולמו ויעסוק בקשר ההדוק בין מדע וטכנולוגיה למודע והרוחנ
 י\,\n\nירחיב בשאלות מרתקות כמו מה צופן לנו העתיד ומדוע הרפואה עומדת בפ
 ני פריצת דרך קוונטית\, לצד פריצת דרך בעולם הטכנולוגי.\n\nהאירוע יתקיים
  ביום א' 5.3 בהיכל מנורה ת"א.\n\nמכירת הכרטיסים דרכנו תזכה אתכם ב 20% 
 הנחה.\n\nלהזמנת כרטיסים:\n\nhttps://www.deepak.co.il/\n\nלמחיר מוזל הז
 ינו קוד קופון: 159263487\n\nמומלץ למהר ולהזמין את המקומות הטובים\, לפנ
 י שיאזלו.\n\n\nאנו ממליצים להתעדכן באתר מידי פעם ולוודא שהמיקום או תאר
 יך האירוע לא שונה: https://deepak.events.co.il/home
LAST-MODIFIED:20200525T150125
LOCATION:היכל מנורה מבטחים ת"א
ORGANIZER;CN=People & Computers:mailto:events@thepeople.co.il
SUMMARY:דיפאק צ'ופרה - בערב חד פעמי בישראל
URL:https://deepak.events.co.il/home
BEGIN:VALARM
ACTION:DISPLAY
TRIGGER:-P1D
DESCRIPTION:REMINDER
SUMMARY:דיפאק צ'ופרה - בערב חד פעמי בישראל מחר בשעה 18:30!
END:VALARM
END:VEVENT
END:VCALENDAR
