BEGIN:VCALENDAR

PRODID:icalendar-ruby
CALSCALE:GREGORIAN
METHOD:REQUEST
BEGIN:VEVENT
DTSTAMP:20210625T112421Z
UID:95bef936-f623-45e4-b7e4-9d44b20755a2
DTSTART:20170308T063000Z
DTEND:20170308T101500Z
DESCRIPTION:\n\nטקס הכתרת המנמ"ר המצטיין לשנת 2016\n\nתחרות מצטייני המ
 יחשוב הנערכת זו השנה ה-14 ברציפות\,\n\nנועדה לעודד את המצוינות האישית 
 בארגוני ה-IT מכל מגזרי המשק מאז תחילתה\,\n\nבנוסף למצוינות הארגונית\, 
 שנבחנת בתחרות ITWARDS .\n\nגם השנה בחרה ועדת איתור בראשות פרופסור גדי 
 אריאב את המנמ"רים המצטיינים\, מכל מגזרי המשק.\n\nטקס הענקת אותות ההצטי
 ינות\, הפך לאחד האירועים המרכזיים בענף\, אליו מגיעים כל מנהלי הטכנולוג
 יה בארגונים\n\nמנכלים בכירים שהמנמרים עובדים איתם ובכירי חברות המיחשוב
 .\n\n\n\n\n\nאולם ליאון\, קומת הכניסה בפקולטה לניהול בבניין רקאנטי\, א
 וניברסיטת תל-אביב.\n\nחנייה בעלות 24 \, חניון סמולרש\, רח' ג'ורג' וויז
  16\, ת"א.\n\nלינק לאתר חניון סמולרש\n\n\nאנו ממליצים להתעדכן באתר מיד
 י פעם ולוודא שהמיקום או תאריך האירוע לא שונה: https://kick-off-2017.ev
 ents.co.il/home
LAST-MODIFIED:20210608T151900
LOCATION:אוניברסיטת  ת"א
ORGANIZER;CN=People & Computers:mailto:events@thepeople.co.il
SUMMARY:KICK OFF 2017
URL:https://kick-off-2017.events.co.il/home
BEGIN:VALARM
ACTION:DISPLAY
TRIGGER:-P1D
DESCRIPTION:REMINDER
SUMMARY:KICK OFF 2017 מחר בשעה 08:30!
END:VALARM
END:VEVENT
END:VCALENDAR
