BEGIN:VCALENDAR
VERSION:2.0
PRODID:icalendar-ruby
CALSCALE:GREGORIAN
METHOD:REQUEST
BEGIN:VEVENT
DTSTAMP:20210607T074327Z
UID:0933ff54-b630-4bdc-8667-eeef06996a38
DTSTART:20170227T070000Z
DTEND:20170227T100000Z
DESCRIPTION:\n\nניהול פרויקטים והיערכות לכניסה לפעילות בתחום ה- Big Da
 ta\n\nSAVE THE DATE!\n\nארגונים רבים נכנסים לעולם ה Big Data ומתמודדים
  עם אתגרים רבים\, הן בהיבט הטכנולוגי והן בהיבט המתודולוגי.\n\nMatrixBi
  שמחה להזמינך למפגש יחיד מסוגו.\n\nבמפגש זה תכירו מגוון רחב מהטכנולוגי
 ות הקיימות בתחום ואת מתודולוגית הפרויקטים שקיימים בעולם הזה  כולל הדגמ
 ה וסיפור לקוח.\n\nמוזמנים: מנהלי BI\, CDO'S\, CIO'S\, מנהלי DATA\n\n\n
 אנו ממליצים להתעדכן באתר מידי פעם ולוודא שהמיקום או תאריך האירוע לא שו
 נה: https://matrix-bi.events.co.il/home
LAST-MODIFIED:20200525T150125
LOCATION:Mixer\, שדרות רוקח 101\, ביתן 2 גני התערוכה\, תל אביב יפו
ORGANIZER;CN=People & Computers:mailto:events@thepeople.co.il
SUMMARY:Matrix Bi
URL:https://matrix-bi.events.co.il/home
BEGIN:VALARM
ACTION:DISPLAY
TRIGGER:-P1D
DESCRIPTION:REMINDER
SUMMARY:Matrix Bi מחר בשעה 09:00!
END:VALARM
END:VEVENT
END:VCALENDAR
