BEGIN:VCALENDAR

PRODID:icalendar-ruby
CALSCALE:GREGORIAN
METHOD:REQUEST
BEGIN:VEVENT
DTSTAMP:20211018T104122Z
UID:5965d572-1e43-4300-a4d0-fc2d9b7d51af
DTSTART:20170314T063000Z
DTEND:20170314T100000Z
DESCRIPTION:\n\nהפורום המוביל של קהילת ה-IT בתחום אבטחת המידע והסייבר\
 n\nעולם אבטחת המידע חשוב\, אבל חשוב לא לפגוע בחווית המשתמש\, איך עושים
  זאת חכם?\n\n\n\nמנחה המפגש: גיא מזרחי\, מנכ"ל סייבריה\, מומחה בתחום ה
 סייבר\n\n\nאנו ממליצים להתעדכן באתר מידי פעם ולוודא שהמיקום או תאריך ה
 אירוע לא שונה: https://csc-2017-1.events.co.il/home
LAST-MODIFIED:20210713T091633
LOCATION:יס פלאנט ראשון לציון\, המאה ועשרים 4
ORGANIZER;CN=People & Computers:mailto:events@thepeople.co.il
SUMMARY:כיצד מיישמים פתרונות אבטחה
URL:https://csc-2017-1.events.co.il/home
BEGIN:VALARM
ACTION:DISPLAY
TRIGGER:-P1D
DESCRIPTION:REMINDER
SUMMARY:כיצד מיישמים פתרונות אבטחה מחר בשעה 08:30!
END:VALARM
END:VEVENT
END:VCALENDAR
