BEGIN:VCALENDAR
VERSION:2.0
PRODID:icalendar-ruby
CALSCALE:GREGORIAN
METHOD:REQUEST
BEGIN:VEVENT
DTSTAMP:20210625T112428Z
UID:b16118f8-5428-4861-bbc6-204946ba27a5
DTSTART:20170305T090000Z
DTEND:20170305T110000Z
DESCRIPTION:\n\nטקס הכתרת נותני שירותים ומוצרים בתחום ה - IT \n\nאנשים
  ומחשבים שמחה להזמינך לטקסהכתרת נותני שירותים ומוצרים בתחום ה - ITעל פ
 י סקר מידת שביעות רצון של המנמ"רים.\n\nזהו המחקרהמקיף ביותר שנערך לראש
 ונה בקרב מאות CIO בישראלעל ידי פירמת ראיית החשבון והייעוץ העסקי BDO וו
 עדת היגוי בהשתתפות מנמרים בכירים.\n\n\nאנו ממליצים להתעדכן באתר מידי פ
 עם ולוודא שהמיקום או תאריך האירוע לא שונה: https://it-top-star.events.
 co.il/home
LAST-MODIFIED:20201231T143817
LOCATION:LAGO\, רחוב המאה ועשרים 6\, ראשון לציון 
ORGANIZER;CN=People & Computers:mailto:events@thepeople.co.il
SUMMARY:IT TOP STAR
URL:https://it-top-star.events.co.il/home
BEGIN:VALARM
ACTION:DISPLAY
TRIGGER:-P1D
DESCRIPTION:REMINDER
SUMMARY:IT TOP STAR מחר בשעה 11:00!
END:VALARM
END:VEVENT
END:VCALENDAR
