BEGIN:VCALENDAR
VERSION:2.0
PRODID:icalendar-ruby
CALSCALE:GREGORIAN
METHOD:REQUEST
BEGIN:VEVENT
DTSTAMP:20210625T112403Z
UID:61e73766-4784-4f7e-94bb-33b4de097b78
DTSTART:20170323T060000Z
DTEND:20170323T150000Z
DESCRIPTION:\n\nBank Hapoalim & BNY Mellon invite you to the The Block
 chain Summit in Tel-Aviv\n\nBlockchain technologies harbor tremendous 
 potential to transform a broad scope of areas in the financial markets
  and beyond.\n\nThe Blockchain Summitin Tel-Aviv is intended to advanc
 ethe dialogue between global market participants\, the local innovatio
 n ecosystem and regulators.\n\nAll interested in understanding the use
  of blockchain technologyin practical applications\, key trends\, chal
 lenges\, and notable innovation work.\n\n\nStay updated on latest chan
 ges at the conference website: https://the-blockchain-summit.events.co
 .il/home
LAST-MODIFIED:20201207T143151
LOCATION:EAST\, Meitav 13\, Tel-Aviv
ORGANIZER;CN=People & Computers:mailto:events@thepeople.co.il
SUMMARY:The Blockchain Summit
URL:https://the-blockchain-summit.events.co.il/home
BEGIN:VALARM
ACTION:DISPLAY
TRIGGER:-P1D
DESCRIPTION:REMINDER
SUMMARY:The Blockchain Summit Tomorrow At 08:00!
END:VALARM
END:VEVENT
END:VCALENDAR
