BEGIN:VCALENDAR
VERSION:2.0
PRODID:icalendar-ruby
CALSCALE:GREGORIAN
METHOD:REQUEST
BEGIN:VEVENT
DTSTAMP:20210625T112633Z
UID:1ec561d6-7a8b-4f98-9295-5430dddf0046
DTSTART:20170214T060000Z
DTEND:20170214T120000Z
DESCRIPTION:\n\nמפגש ProAV  בחסות חברת Gefen\n\nמובילה עולמית בתחום הא
 ודיו ווידאו\n\nוסילורה פיתוח יבואנית ציוד ProAV מתקדם.\n\nבואו לראות ו
 ללמוד על קווי המוצר החדשים אשר הושקו בתערוכת ISE-2017\n\nבמפגש יהיו הד
 גמות ויהיה ניתן להתנסות במוצרים.\n\n\n\n\n\nחניה חינם בחניון המלון.\n\
 n\n\n\n\n\n\n\n\n\n\n\n\n\n\n\n\n\n\n\n\n\n\n\n\n\n\n\n\n\n\n\n\n\n\n\
 n\n\n\n\n\n\n\n\n\n\n\n\n\n\n\n\n\n\n\n\n\n\n\n\n\n\n\n\n\n\n\n\n\n\n\
 n\n\n\n\n\n\n\n\n\n\n\n\n\n\n\n\n\n\n\n\n\n\n\n\n\n\n\n\n\n\n\n\n\n\n\
 n\n\n\n\n\n\n\n\n\n\n\n\n\n\n\n\n\n\n\n\n\n\n\n\n\n\n\n\n\n\nאנו ממליצ
 ים להתעדכן באתר מידי פעם ולוודא שהמיקום או תאריך האירוע לא שונה: https
 ://silora-rd.events.co.il/home
LAST-MODIFIED:20200525T145936
LOCATION:מלון הרודס\, רחוב העוגן 11\, הרצליה
ORGANIZER;CN=People & Computers:mailto:events@thepeople.co.il
SUMMARY:סילורה
URL:https://silora-rd.events.co.il/home
BEGIN:VALARM
ACTION:DISPLAY
TRIGGER:-P1D
DESCRIPTION:REMINDER
SUMMARY:סילורה מחר בשעה 08:00!
END:VALARM
END:VEVENT
END:VCALENDAR
