BEGIN:VCALENDAR

PRODID:icalendar-ruby
CALSCALE:GREGORIAN
METHOD:REQUEST
BEGIN:VEVENT
DTSTAMP:20210625T112452Z
UID:f4d9fbd3-9f02-4c4c-b31a-0b9ac08a9514
DTSTART:20170305T060000Z
DTEND:20170305T093000Z
DESCRIPTION:\n\nהמנכ"לים המצטיינים לשנת 2017\n\nשנת 2016 הייתה שנת מצו
 ינות טכנולוגית בארגונים השונים במשק.\n\nגם השנה נמשיך את המסורת של שני
 ם קודמות ונעניק למנכ"לים המצטיינים אות הערכה ייחודי על הובלה עסקית טכנ
 ולוגית\n\nועל שימוש מתקדם ויוצא דופן באיכותו במערכות מידע בארגונים שלה
 ם לטובת קידום היעדים העסקיים.\n\nהאות מוענק על שימוש מושכל ובר תוצאות 
 של המנכ"ל וארגונו\, ביישום מערכות מידע וטכנולוגיות חדשניותועל שת"פ מוע
 יל עם מנמ"רים\, סמנכ"לי מערכות המידע (CIOs) בארגון שלהם.\n\nהמנכ"לים ה
 זוכים נבחרו ע"י וועדת איתור מיוחדת המורכבת ממנכ"לים בכירים במשק\, אשר 
 בחנו את המועמדויות שהוגשו בכל מגזר\n\n\n\n\nבנקאות: מזרחי טפחות\nאלדד 
 פרשר\, מנכ"ל\nאילה חכים\, סמנכ"לית מערכות מידע\n\n\n\n\n\n\n\nאשראי: C
 al - כרטיסי אשראי לישראל\nדורון ספיר\, מנכ"ל\nאירנה פורטניק\, סמנכ"לית
  טכנולוגיות ותפעול\n\n\n\n\n\n\n\nביטוח: ביטוח ישיר איי.די.איי\nרביב צ
 ולר\, מנכ"ל\nיבגני וולפין\, סמנכ"ל מערכות מידע\n\n\n\n\n\n\n\nתעשייה: 
 נשר מפעלי מלט ישראליים\nמשה קפלינסקי\, מנכ"ל\nיגאל פדאל\, ראש חטיבת מע
 רכות מידע\n\n\n\n\n\n\n\nציבורי: נתיבי ישראל\nניסים פרץ\, מנכ"ל\nנינה 
 גיספאן\, מנהלת אגף מערכות מידע\n\n\n\n\n\n\n\nלוגיסטיקה והפצה: דיפלומט
 \nנעם וימן\, מנכ"ל\nשי מיקהל\, סמנכ"ל מערכות מידע\n\n\n\n\n\n\n\nגלובל
 י: Eden Springs\nרענן זילברמן\, מנכ"ל\nגיא טויבין\, סמנכ"ל מערכות מידע
 \n\n\n\n\n\nאנו ממליצים להתעדכן באתר מידי פעם ולוודא שהמיקום או תאריך 
 האירוע לא שונה: https://ceo-awards-2017.events.co.il/home
LAST-MODIFIED:20201231T143817
LOCATION:LAGO\, רחוב המאה ועשרים 6\, ראשון לציון 
ORGANIZER;CN=People & Computers:mailto:events@thepeople.co.il
SUMMARY:CEO AWARDS 2017
URL:https://ceo-awards-2017.events.co.il/home
BEGIN:VALARM
ACTION:DISPLAY
TRIGGER:-P1D
DESCRIPTION:REMINDER
SUMMARY:CEO AWARDS 2017 מחר בשעה 08:00!
END:VALARM
END:VEVENT
END:VCALENDAR
