BEGIN:VCALENDAR

PRODID:icalendar-ruby
CALSCALE:GREGORIAN
METHOD:REQUEST
BEGIN:VEVENT
DTSTAMP:20210512T065748Z
UID:c60960b3-d2d1-4607-be51-e5d1ab94cc20
DTSTART:20170326T050000Z
DTEND:20170326T090000Z
DESCRIPTION:\n\nמפת הדרכים לדיגיטל\n\n\nבמפגש הראשון נעסוק במפת הדרכים
  לשנים הקרובות בתחום הדיגיטל.\nנברר מה עובד ומה נכשל בדיגיטל ונשמע מה 
 הן הטכנולוגיות המובילות וכיצד נדרשים הארגונים להיערך על מנת ליישם בהצל
 חה טרנספורמציה דיגיטלית.\n\nתוכניתהמפגש:\nהתכנסות וכיבוד\nאייל גולדברג
 \, סמנכ"ל ייעוץ בשטראוס אסטרטגיה ומוביל המועדון - מפת הדרכים של הדיגיט
 ל\nCase Study: לילך בר דוד\, מנכ"לית פפר - הבנק הדיגיטלי -Challenging 
 the status quo of banking\nאלי ישראלוב\, מנכ"ל Bump Yard -טרנספורמציה 
 לדיגיטל - למה\, ואיך באמת\nCase Study: מיכאל מיטרני\, CDO\, סופר פארם 
 -הטרנספורמציה הדיגיטלית בסופר-פארם\nשי רוזן\, Real Commerce -שירות דיג
 יטלי רב ערוצי\nאייל גולדברג\, סמנכ"ל ייעוץ בשטראוס אסטרטגיה ומוביל המו
 עדון - תובנות מהמפגש ותוכנית הפורום לשנת 2017\n\n\nאנו ממליצים להתעדכן
  באתר מידי פעם ולוודא שהמיקום או תאריך האירוע לא שונה: https://cdo-201
 7-1.events.co.il/home
LAST-MODIFIED:20200525T150114
LOCATION:LAGO\, רחוב המאה ועשרים 6\, ראשון לציון 
ORGANIZER;CN=People & Computers:mailto:events@thepeople.co.il
SUMMARY:מפגש ראשון לפורום CDO - מפת הדרכים לדיגיטל
URL:https://cdo-2017-1.events.co.il/home
BEGIN:VALARM
ACTION:DISPLAY
TRIGGER:-P1D
DESCRIPTION:REMINDER
SUMMARY:מפגש ראשון לפורום CDO - מפת הדרכים לדיגיטל מחר בשעה 08:00!
END:VALARM
END:VEVENT
END:VCALENDAR
