BEGIN:VCALENDAR

PRODID:icalendar-ruby
CALSCALE:GREGORIAN
METHOD:REQUEST
BEGIN:VEVENT
DTSTAMP:20211018T104058Z
UID:433c0b77-a2f0-4e5b-acd0-77df762882fe
DTSTART:20170319T063000Z
DTEND:20170319T100000Z
DESCRIPTION:\n\nפורום תשתיות מחשוב DATA CENTER והמשכיות עסקית\n\nפורום
  התשתיות והדטה סנטר החדש של אנשים ומחשבים\, בשיתוף חברי ועדת ההיגוי:\n
 \n\n	\n	\nמיכאל בורשטיין\, מנכ"ל טרה סקיי\n	\n	\n	\nבל קיטאי מנהלת מחל
 קת תשתיות AIG\n\n	\n	\n	\nגיל זיסו\, מנהל תשתיות והגנת הסייבר\, דואר י
 שראל\, Innovation and infrastructure director\, CISO\n\n	\n\n\nעורכים 
 את המפגש הראשון של הפורום המאוחד\n\nומעלה על סדר היום את הנושא החשוב:\
 n\nבעולם שהטכנולוגיה תופסת תאוצה\n\n\nCIO ומנהל תשתיות - הדרך המובטחת 
 להמשכיות עסקית\n\n\nאנו ממליצים להתעדכן באתר מידי פעם ולוודא שהמיקום א
 ו תאריך האירוע לא שונה: https://infrastructure-new-forum-2017-1.events
 .co.il/home
LAST-MODIFIED:20201203T100843
LOCATION:יס פלאנט ראשון לציון\, המאה ועשרים 4
ORGANIZER;CN=People & Computers:mailto:events@thepeople.co.il
SUMMARY:יחסי CIO ומנהל מחשוב התשתיות
URL:https://infrastructure-new-forum-2017-1.events.co.il/home
BEGIN:VALARM
ACTION:DISPLAY
TRIGGER:-P1D
DESCRIPTION:REMINDER
SUMMARY:יחסי CIO ומנהל מחשוב התשתיות מחר בשעה 08:30!
END:VALARM
END:VEVENT
END:VCALENDAR
