BEGIN:VCALENDAR
VERSION:2.0
PRODID:icalendar-ruby
CALSCALE:GREGORIAN
METHOD:REQUEST
BEGIN:VEVENT
DTSTAMP:20210625T112618Z
UID:90ba2079-dafe-4c9d-9816-dc42dc05cc2f
DTSTART:20170130T073000Z
DTEND:20170130T113000Z
DESCRIPTION:\n\nBecome a cloud-powered business - Join us for a Differ
 ent EXPERIENCE\n\nWE ARE HAPPY TO INVITE YOU TO THE OFFICIAL LAUNCH OF
  ALLCLOUD.\n\nWherever you are on your cloud journey\, we promise to s
 how you how far you can go.\n\nWe hope to see you among our guests.\n\
 nThe AllCloud Team\n\n\nStay updated on latest changes at the conferen
 ce website: https://allcloud-launch-event.events.co.il/home
LAST-MODIFIED:20201207T143140
LOCATION:Sheva\, HaTsfira 19\, Tel Aviv
ORGANIZER;CN=People & Computers:mailto:events@thepeople.co.il
SUMMARY:ALLCLOUD LAUNCH EVENT
URL:https://allcloud-launch-event.events.co.il/home
BEGIN:VALARM
ACTION:DISPLAY
TRIGGER:-P1D
DESCRIPTION:REMINDER
SUMMARY:ALLCLOUD LAUNCH EVENT Tomorrow At 09:30!
END:VALARM
END:VEVENT
END:VCALENDAR
