BEGIN:VCALENDAR
VERSION:2.0
PRODID:icalendar-ruby
CALSCALE:GREGORIAN
METHOD:REQUEST
BEGIN:VEVENT
DTSTAMP:20211018T104117Z
UID:af81dc09-e308-4d34-b445-e1bc0dd6c7ab
DTSTART:20170125T070000Z
DTEND:20170125T103000Z
DESCRIPTION:\n\nמועדון המנמ"רים היוקרתי C3\n\nמערכות מידע פיננסיות בעו
 לם עסקי דינמי\n\n\nאנו ממליצים להתעדכן באתר מידי פעם ולוודא שהמיקום או
  תאריך האירוע לא שונה: https://c3-2017-1.events.co.il/home
LAST-MODIFIED:20211005T141026
LOCATION:חברת cal\, רחוב תפוצות ישראל 13\, גבעתיים
ORGANIZER;CN=People & Computers:mailto:events@thepeople.co.il
SUMMARY:ביקור מקצועי בחברת cal - כרטיסי אשראי לישראל\, חזית הטכנולוגיה
  של עולם התשלומים והאשראי
URL:https://c3-2017-1.events.co.il/home
BEGIN:VALARM
ACTION:DISPLAY
TRIGGER:-P1D
DESCRIPTION:REMINDER
SUMMARY:ביקור מקצועי בחברת cal - כרטיסי אשראי לישראל\, חזית הטכנולוגיה
  של עולם התשלומים והאשראי מחר בשעה 09:00!
END:VALARM
END:VEVENT
END:VCALENDAR
