BEGIN:VCALENDAR

PRODID:icalendar-ruby
CALSCALE:GREGORIAN
METHOD:REQUEST
BEGIN:VEVENT
DTSTAMP:20210625T112648Z
UID:c41f4adc-82c4-4e52-9754-2ee6b146391d
DTSTART:20170126T053000Z
DTEND:20170126T150000Z
DESCRIPTION:\n\nJobs To Be Done\n\nPut Jobs-to-be-Done Theory into pra
 ctice and create solutions that customers want.\n\nהשנה\, הועידה השנתי
 ת לקהילת ה- IT בצפון של בינת תתקיים במלון יערות הכרמלבקונספט המתבסס על
  תאוריית ה- Jobs to be done.\n\nנשים דגש על הצד הפרקטי וההשמה של הפתרו
 נות הטכנולוגיים.\n\nבבסיס הכנס יעמדו האתגרים והשאלות המשמעותיות של המנ
 מ"רהיום בארגון והציפיות שלו ואנחנו נגיע עם כל התשובות וההסברים ליישום 
 וביצוע.\n\nמספר המקומות מוגבל\n\nחנייה חופשית במקום\n\nהאירוע אינו בתש
 לום\, אך מחייב קבלת אישור מבינת ומאנשים ומחשבים.\n\n\nאנו ממליצים להתע
 דכן באתר מידי פעם ולוודא שהמיקום או תאריך האירוע לא שונה: https://jobs
 -to-be-done.events.co.il/home
LAST-MODIFIED:20210512T143150
LOCATION:מלון יערות הכרמל \, חיפה
ORGANIZER;CN=People & Computers:mailto:events@thepeople.co.il
SUMMARY:הועידה השנתית לקהילת ה- IT בצפון
URL:https://jobs-to-be-done.events.co.il/home
BEGIN:VALARM
ACTION:DISPLAY
TRIGGER:-P1D
DESCRIPTION:REMINDER
SUMMARY:הועידה השנתית לקהילת ה- IT בצפון מחר בשעה 07:30!
END:VALARM
END:VEVENT
END:VCALENDAR
