BEGIN:VCALENDAR
VERSION:2.0
PRODID:icalendar-ruby
CALSCALE:GREGORIAN
METHOD:REQUEST
BEGIN:VEVENT
DTSTAMP:20211018T104040Z
UID:6db5556f-f72e-4d4b-a2ee-bbc169ccddfe
DTSTART:20170306T063000Z
DTEND:20170306T100000Z
DESCRIPTION:\n\nIBI- הפורום המוביל של קהילת ה-IT בתחום הבינה העסקית\n\
 nבחברת לובינסקי היו 4 מערכות שונות לא מאוזנות ולא מותקפות. בוצע שינוי 
 מעבר ל- QV כולל סנס\, למערכות שמהוות את העמוד המרכזי למידע והחלטה עיסק
 ית.\n\n\nאנו ממליצים להתעדכן באתר מידי פעם ולוודא שהמיקום או תאריך האי
 רוע לא שונה: https://ibi-2016-8.events.co.il/home
LAST-MODIFIED:20200525T150034
LOCATION:בניין D (בניין משרדים מרכזי) קומה M2- אודיטוריום\, מעויין שור
 ק מרק מושביץ 3\, ראשון לציון
ORGANIZER;CN=People & Computers:mailto:events@thepeople.co.il
SUMMARY:ביקור מקצועי בחברת לובינסקי - מקצת מידע כמותי ספורדי\, להרבה B
 I עסקי
URL:https://ibi-2016-8.events.co.il/home
BEGIN:VALARM
ACTION:DISPLAY
TRIGGER:-P1D
DESCRIPTION:REMINDER
SUMMARY:ביקור מקצועי בחברת לובינסקי - מקצת מידע כמותי ספורדי\, להרבה B
 I עסקי מחר בשעה 08:30!
END:VALARM
END:VEVENT
END:VCALENDAR
