BEGIN:VCALENDAR
VERSION:2.0
PRODID:icalendar-ruby
CALSCALE:GREGORIAN
METHOD:REQUEST
BEGIN:VEVENT
DTSTAMP:20211020T144439Z
UID:79660423-6aa3-4dab-b2e0-7782676adbd4
DTSTART:20170320T060000Z
DTEND:20170320T150000Z
DESCRIPTION:\n\nAccess Israel's 5th International Convention focusing 
 on Accessibility for All in the Digital Era\n\n\nRegistration is close
 d.\n\n\nyou can sign up for conference at the place.\n\nThe conference
  registration is only in cash or credit card.\n\nNo other Methods of P
 ayment accepted.\n\n\nStay updated on latest changes at the conference
  website: https://access-israel-2017-en.events.co.il/home
LAST-MODIFIED:20211012T165219
LOCATION:David InterContinental\, 12 Kaufman Street\, Tel Aviv
ORGANIZER;CN=People & Computers:mailto:events@thepeople.co.il
SUMMARY:ACCESS ISRAEL 2017
URL:https://access-israel-2017-en.events.co.il/home
BEGIN:VALARM
ACTION:DISPLAY
TRIGGER:-P1D
DESCRIPTION:REMINDER
SUMMARY:ACCESS ISRAEL 2017 Tomorrow At 08:00!
END:VALARM
END:VEVENT
END:VCALENDAR
