BEGIN:VCALENDAR
VERSION:2.0
PRODID:icalendar-ruby
CALSCALE:GREGORIAN
METHOD:REQUEST
BEGIN:VEVENT
DTSTAMP:20211020T144258Z
UID:aeab594e-bc9a-4463-b1ba-e0da31375e08
DTSTART:20170320T060000Z
DTEND:20170320T150000Z
DESCRIPTION:\n\nהוועידה השנתית החמישית של עמותת נגישות ישראל בסימן נגי
 שות לכל בעידן הדיגיטאלי והטכנולוגיה בשירות הנגישות.\n\n\nההרשמה דרך את
 ר האינטרנט נסגרה - ניתן להרשם בבוקר הכנס במקום.\n\n\n\n\n\n\n\nההרשמה 
 ביום הכנס בתשלום בלבד בכרטיס אשראי או מזומן.\n\nלא יתקבלו אמצעי תשלום 
 אחרים\n\n\n\nאנו ממליצים להתעדכן באתר מידי פעם ולוודא שהמיקום או תאריך
  האירוע לא שונה: https://access-israel-2017.events.co.il/home
LAST-MODIFIED:20211019T121606
LOCATION:דייויד אינטרקונטיננטל\, קאופמן 12\, תל-אביב
ORGANIZER;CN=People & Computers:mailto:events@thepeople.co.il
SUMMARY:הוועידה הבינלאומית לטכנולוגיה בשירות הנגישות ACCESS ISRAEL 201
 7
URL:https://access-israel-2017.events.co.il/home
BEGIN:VALARM
ACTION:DISPLAY
TRIGGER:-P1D
DESCRIPTION:REMINDER
SUMMARY:הוועידה הבינלאומית לטכנולוגיה בשירות הנגישות ACCESS ISRAEL 201
 7 מחר בשעה 08:00!
END:VALARM
END:VEVENT
END:VCALENDAR
