BEGIN:VCALENDAR
VERSION:2.0
PRODID:icalendar-ruby
CALSCALE:GREGORIAN
METHOD:REQUEST
BEGIN:VEVENT
DTSTAMP:20210625T112643Z
UID:b3e6f930-0228-4855-bf62-51fd8b6ab147
DTSTART:20170122T060000Z
DTEND:20170122T120000Z
DESCRIPTION:\n\nטקס ההכתרה\n\nצמרת תעשיית ה-IT בישראל - מנמ"רים\, מנכ"
 לים\, ספקים ומצטיינים\, נפגשים ב-22.1.17 לטקס הכתרת הזוכים בתחרות מצטי
 יני המחשוב 2016.\n\n\n\n\n\n\n\n\n\n\n\n\n\n\n\n\n\n\n\n\n\n\n\n\n\n\n
 \n\n\n\n\n\n\n\n\n\n\n\n\n\n\n\n\n\n\n\n\n\n\n\n\n\n\n\n\n\n\n\n\n\n\n
 \n\n\n\n\n\n\n\n\n\n\n\n\n\n\n\n\n\n\n\n\n\n\n\n\n\n\n\n\n\n\n\n\n\n\n
 \n\n\n\n\n\n\n\n\n\n\n\n\n\n\n\n\n\n\n\n\n\n\n\n\n\n\n\n\n\n\n\n\n\n\n
 \n\n\n\n\nאנו ממליצים להתעדכן באתר מידי פעם ולוודא שהמיקום או תאריך הא
 ירוע לא שונה: https://it-excellence.events.co.il/home
LAST-MODIFIED:20210307T161532
LOCATION:LAGO\, רחוב המאה ועשרים 6\, ראשון לציון 
ORGANIZER;CN=People & Computers:mailto:events@thepeople.co.il
SUMMARY:תחרות מצטייני המחשוב
URL:https://it-excellence.events.co.il/home
BEGIN:VALARM
ACTION:DISPLAY
TRIGGER:-P1D
DESCRIPTION:REMINDER
SUMMARY:תחרות מצטייני המחשוב מחר בשעה 08:00!
END:VALARM
END:VEVENT
END:VCALENDAR
