BEGIN:VCALENDAR
VERSION:2.0
PRODID:icalendar-ruby
CALSCALE:GREGORIAN
METHOD:REQUEST
BEGIN:VEVENT
DTSTAMP:20211018T104051Z
UID:ccf60598-781f-40db-b947-b5aa9087235b
DTSTART:20170205T063000Z
DTEND:20170205T100000Z
DESCRIPTION:\n\nIBI- הפורום המוביל של קהילת ה-IT בתחום הבינה העסקית\n\
 nמידע הופך להיות מטבע עובד לסוחר.\n\nחברות המתמקדות בכך קיימות זה כמה 
 שנים\, וזהוהזמן לחברות הוותיקות וליזמים לבחון לעומק את ההזדמנויות הקיי
 מות בתחום.\n\n\nאנו ממליצים להתעדכן באתר מידי פעם ולוודא שהמיקום או תא
 ריך האירוע לא שונה: https://ibi-2016-5.events.co.il/home
LAST-MODIFIED:20211005T134530
LOCATION:יס פלאנט ראשון לציון\, המאה ועשרים 4
ORGANIZER;CN=People & Computers:mailto:events@thepeople.co.il
SUMMARY:Data Monetization
URL:https://ibi-2016-5.events.co.il/home
BEGIN:VALARM
ACTION:DISPLAY
TRIGGER:-P1D
DESCRIPTION:REMINDER
SUMMARY:Data Monetization מחר בשעה 08:30!
END:VALARM
END:VEVENT
END:VCALENDAR
