BEGIN:VCALENDAR
VERSION:2.0
PRODID:icalendar-ruby
CALSCALE:GREGORIAN
METHOD:REQUEST
BEGIN:VEVENT
DTSTAMP:20210625T112406Z
UID:3c44725a-ad7f-4e8a-b2c8-2f51443a405d
DTSTART:20170326T050000Z
DTEND:20170326T110000Z
DESCRIPTION:\n\nIN A DIGITAL WORLD PREPARE FOR CHANGE\n\n2017 היא שנה 
 קריטית - הלקוח הדיגיטלי היוםחכם ומתוחכם יותר!\n\nחברות שמצליחות בנוף ה
 דיגיטלי המשתנהמחויבות לעבוד על פני מספר רב של ערוצים\,באמצעות אסטרטגיה
  דיגיטלית\, עיצוב\, תובנה וטכנולוגיה ובדרכים חדשות ומרגשות.\n\n\n	\n	ח
 שיבות חווית המשתמש וכיצד נתמודד איתה\n	\n	\n	כיצד מאפיינים את המשתמש ש
 לנו\n	\n	\n	כלים טכנולוגיים חדשניים לשיפור חווית הלקוח\n	\n	\n	עלות מו
 ל תועלת ROI\n	\n	\n	הנגשה ושיפור חווית לקוח\n	\n	\n	הקמה וניהול נכס די
 גיטלי\n	\n	\n	פרסום\, שיווק וקידום\n	\n	\n	סיפור לקוח ופאנלים מרתקים\n
 	\n\n\n\nאנו ממליצים להתעדכן באתר מידי פעם ולוודא שהמיקום או תאריך האי
 רוע לא שונה: https://customer-experience.events.co.il/home
LAST-MODIFIED:20210608T151900
LOCATION:LAGO\, רחוב המאה ועשרים 6\, ראשון לציון 
ORGANIZER;CN=People & Computers:mailto:events@thepeople.co.il
SUMMARY:CUSTOMER-EXPERIENCE
URL:https://customer-experience.events.co.il/home
BEGIN:VALARM
ACTION:DISPLAY
TRIGGER:-P1D
DESCRIPTION:REMINDER
SUMMARY:CUSTOMER-EXPERIENCE מחר בשעה 08:00!
END:VALARM
END:VEVENT
END:VCALENDAR
