BEGIN:VCALENDAR
VERSION:2.0
PRODID:icalendar-ruby
CALSCALE:GREGORIAN
METHOD:REQUEST
BEGIN:VEVENT
DTSTAMP:20211018T104115Z
UID:89e91718-9222-434b-a4e5-a058a975e41e
DTSTART:20170130T063000Z
DTEND:20170130T100000Z
DESCRIPTION:\n\nפורום מנהלי טכנולוגיות המידע הראשיים המובילים בעולם ה-
 IT\n\nאיך נותנים מענה אופטימלי במקום הנכון ובזמן הנכון.\n\nהתמודדות סמ
 נכ"ל הטכנולוגיות עם היבטים של תשתיות\, טכנולוגיה\, שרתים\, אחסון ועוד.
 \n\n\nאנו ממליצים להתעדכן באתר מידי פעם ולוודא שהמיקום או תאריך האירוע
  לא שונה: https://cto-forum-6.events.co.il/home
LAST-MODIFIED:20210713T091626
LOCATION:יס פלאנט ראשון לציון\, המאה ועשרים 4
ORGANIZER;CN=People & Computers:mailto:events@thepeople.co.il
SUMMARY:תכנון קיבולת בעולם הדטה סנטר
URL:https://cto-forum-6.events.co.il/home
BEGIN:VALARM
ACTION:DISPLAY
TRIGGER:-P1D
DESCRIPTION:REMINDER
SUMMARY:תכנון קיבולת בעולם הדטה סנטר מחר בשעה 08:30!
END:VALARM
END:VEVENT
END:VCALENDAR
