BEGIN:VCALENDAR
VERSION:2.0
PRODID:icalendar-ruby
CALSCALE:GREGORIAN
METHOD:REQUEST
BEGIN:VEVENT
DTSTAMP:20211018T104031Z
UID:0c681305-2867-4364-abea-307852d605d6
DTSTART:20170205T063000Z
DTEND:20170205T100000Z
DESCRIPTION:\n\nPMO - הפורום המוביל של קהילת ה-IT בתחום ניהול הפרויקטי
 ם\n\nה- AGILE הפך להיות תחום מוביל - מתודולוגיות שונות בניהול פרויקטים
 \n\n\n	\n	במסגרת מפגש זה יוצגו תפיסות ופתרונות בעולמות ה- AGILE וה- DE
 VOPS\n	\n	\n	הקשר המורכב שבין עולמות אלו לעולמות של התכנון והבקרה\n	\n
 	\n	כיצד ארגונים מהארץ ומהעולם מתמודדים עם תפיסות ניהוליות אלו - תוך ש
 יפור התייעלות והמשך יצירת תמונת מצב ארגונית מובהקת.\n	\n\n\n\nאנו ממלי
 צים להתעדכן באתר מידי פעם ולוודא שהמיקום או תאריך האירוע לא שונה: http
 s://ppmpmo-2016-6.events.co.il/home
LAST-MODIFIED:20211005T141206
LOCATION:יס פלאנט ראשון לציון\, המאה ועשרים 4
ORGANIZER;CN=People & Computers:mailto:events@thepeople.co.il
SUMMARY:Agile - הלכה למעשה
URL:https://ppmpmo-2016-6.events.co.il/home
BEGIN:VALARM
ACTION:DISPLAY
TRIGGER:-P1D
DESCRIPTION:REMINDER
SUMMARY:Agile - הלכה למעשה מחר בשעה 08:30!
END:VALARM
END:VEVENT
END:VCALENDAR
