BEGIN:VCALENDAR

PRODID:icalendar-ruby
CALSCALE:GREGORIAN
METHOD:REQUEST
BEGIN:VEVENT
DTSTAMP:20210625T112555Z
UID:8c146b8f-d2c5-4b8d-b36d-0b1b5a0225ab
DTSTART:20170227T060000Z
DTEND:20170227T120000Z
DESCRIPTION:\n\nתחרות הסטארטאפים\n\nמי הסטארט אפ המוביל בתחום החינוך ה
 מיוחד?\n\nפיתחתם אפליקציה לקשר בין תלמידים למשפחה?\n\nלסייע בלמידה באמ
 צעות משחקים חינוכיים?\n\nסיוע לתלמידים בעלי צרכים מיוחדים?\n\nסיוע בהנ
 גשת הטכנלוגיה לתלמידים בעלי צרכים מיוחדים?\n\nהגיתם פתרון מיוחד בתחום 
 החינוך והחינוך המיוחד?\n\n"אנשים ומחשבים" וקרן אתנה להעצמת המורים בישר
 אל בחינוך בתקשוב בשיתוף EDUTECH 2017 כנס בארגון והפקת אנשים ומחשבים .\
 n\nסטארטאפים המעוניינים להשתתף באירוע יעבירו במייל תוך הסבר על הפתרון 
 ודרכי הקשר.\n\nועדת מומחים תפגוש את המועמדים\, תדרג את הפתרונות ו  5 ה
 פתרונות המובילים יזכו לחשיפה על הבימה בכנס שיתקיים ב  27 פברואר 2017\n
 \nהתחרות והזוכים יזכו לחשיפה תקשורתית באמצעי המדיה של אנשים ומחשבים וב
 אמצעי מדיה נוספים.\n\nאת הבקשות נא לשלוח ל"אנשים ומחשבים" אל יהודה קונ
 פורטס עורך ראשי\, 0523275381 | yehudak@pc.co.il \n\n\nלהרשמה לאירוע -h
 ttps://edutech-2017.events.co.il/home\n\n\n\n\n\n\n\n\n\n\n\n\n\n\n\n\
 n\n\n\n\n\n\n\n\n\n\n\n\n\n\n\n\n\n\n\n\n\n\n\n\n\n\n\n\n\n\n\n\n\n\n\
 n\n\n\n\n\n\n\n\n\n\n\n\n\n\n\n\n\n\n\n\n\n\n\n\n\n\n\n\n\n\n\n\n\n\n\
 n\n\n\n\n\n\n\n\n\n\n\n\n\n\n\n\n\n\n\n\n\n\n\n\n\n\n\n\n\n\n\n\n\n\n\
 n\n\n\n\n\n\n\n\n\n\nאנו ממליצים להתעדכן באתר מידי פעם ולוודא שהמיקום 
 או תאריך האירוע לא שונה: https://special-ed-startup.events.co.il/home
LAST-MODIFIED:20201207T142910
LOCATION:LAGO\, רחוב המאה ועשרים 6\, ראשון לציון 
ORGANIZER;CN=People & Computers:mailto:events@thepeople.co.il
SUMMARY:SPECIAL ED STARTUP
URL:https://special-ed-startup.events.co.il/home
BEGIN:VALARM
ACTION:DISPLAY
TRIGGER:-P1D
DESCRIPTION:REMINDER
SUMMARY:SPECIAL ED STARTUP מחר בשעה 08:00!
END:VALARM
END:VEVENT
END:VCALENDAR
