BEGIN:VCALENDAR

PRODID:icalendar-ruby
CALSCALE:GREGORIAN
METHOD:REQUEST
BEGIN:VEVENT
DTSTAMP:20211018T104127Z
UID:f79bb599-c78b-40d8-8154-c9e9ddb00a55
DTSTART:20170123T063000Z
DTEND:20170123T100000Z
DESCRIPTION:\n\nהפורום המקצועי בישראל לניהול ידע בארגונים\n\nכיום כבר 
 לא מספיק לתת מענה WEB מצוין. יותר ויותר אנו עושים שימוש בערוצי הטלפון 
 החכם\, וניהול הידע מתקדם אף הוא בכיוון. במפגש יוצגו פתרונות ניהול ידע 
 המיושמים באפליקציות סלולאריות.\n\n\nאנו ממליצים להתעדכן באתר מידי פעם 
 ולוודא שהמיקום או תאריך האירוע לא שונה: https://kmi-2016-11.events.co.
 il/home
LAST-MODIFIED:20210712T134743
LOCATION:יס פלאנט ראשון לציון\, המאה ועשרים 4
ORGANIZER;CN=People & Computers:mailto:events@thepeople.co.il
SUMMARY:אפליקציות סלולאריות לניהול ידע
URL:https://kmi-2016-11.events.co.il/home
BEGIN:VALARM
ACTION:DISPLAY
TRIGGER:-P1D
DESCRIPTION:REMINDER
SUMMARY:אפליקציות סלולאריות לניהול ידע מחר בשעה 08:30!
END:VALARM
END:VEVENT
END:VCALENDAR
