BEGIN:VCALENDAR
VERSION:2.0
PRODID:icalendar-ruby
CALSCALE:GREGORIAN
METHOD:REQUEST
BEGIN:VEVENT
DTSTAMP:20211018T104042Z
UID:7f9c43e4-58e4-4c59-ba53-d7055801f3d3
DTSTART:20170205T063000Z
DTEND:20170205T100000Z
DESCRIPTION:\n\nהפורום המוביל של קהילת ה-IT בתחום אבטחת המידע והסייבר\
 n\nמלכודות \; אנליטיקה \; Deception \; בעולם מפחיד כעת\, איך מתמודדים?
 \n\n\n\n\nאנו ממליצים להתעדכן באתר מידי פעם ולוודא שהמיקום או תאריך הא
 ירוע לא שונה: https://csc-2016-12.events.co.il/home
LAST-MODIFIED:20210713T091633
LOCATION:יס פלאנט ראשון לציון\, המאה ועשרים 4
ORGANIZER;CN=People & Computers:mailto:events@thepeople.co.il
SUMMARY:טכנולוגיות מתקדמות להגנת סייבר
URL:https://csc-2016-12.events.co.il/home
BEGIN:VALARM
ACTION:DISPLAY
TRIGGER:-P1D
DESCRIPTION:REMINDER
SUMMARY:טכנולוגיות מתקדמות להגנת סייבר מחר בשעה 08:30!
END:VALARM
END:VEVENT
END:VCALENDAR
