BEGIN:VCALENDAR
VERSION:2.0
PRODID:icalendar-ruby
CALSCALE:GREGORIAN
METHOD:REQUEST
BEGIN:VEVENT
DTSTAMP:20210607T074346Z
UID:dbe21a27-ddc8-4b56-900c-464be02e491f
DTSTART:20160922T063000Z
DTEND:20160922T093000Z
DESCRIPTION:\n\nA Unique Encounter with the MongoDB Founder\n\nMongoDB
  and MatrixProducts Division\, MongoDB's partner in Israel Invites you
  to a unique event with Eliot Horvitz\, CTO and Co-Founder of MongoDB\
 n\nMongoDB is the top leader of Big Data\n\nThe world's largest financ
 ial organizations\, leading hi-tech companies and security agencies ut
 ilize their core databases with MongoDB for their modern business appl
 ications\n\nFor the first time\, the company's founder will be joining
  us in Israel\, giving us a close look at how things are done at Mongo
 DB\n\nJoin us at this remarkable event\n\n\nStay updated on latest cha
 nges at the conference website: https://mongodb-matrix.events.co.il/ho
 me
LAST-MODIFIED:20200525T145915
LOCATION:Herods Herzliya\, HaOgen 11\, Herzliya
ORGANIZER;CN=People & Computers:mailto:events@thepeople.co.il
SUMMARY:MongoDB matrix
URL:https://mongodb-matrix.events.co.il/home
BEGIN:VALARM
ACTION:DISPLAY
TRIGGER:-P1D
DESCRIPTION:REMINDER
SUMMARY:MongoDB matrix Tomorrow At 09:30!
END:VALARM
END:VEVENT
END:VCALENDAR
