BEGIN:VCALENDAR
VERSION:2.0
PRODID:icalendar-ruby
CALSCALE:GREGORIAN
METHOD:REQUEST
BEGIN:VEVENT
DTSTAMP:20211018T104016Z
UID:88787d36-1714-4ec6-855b-d9a88758d444
DTSTART:20161121T070000Z
DTEND:20161121T143000Z
DESCRIPTION:\n\nGeektime Conference 2016\n\n\nGeektime Conference (Pre
 viously TWS) is the largest and considered to be the premier startup e
 vent in the Startup Nation. The conference is an Annual event that con
 tinues an 8-year tradition of stimulating conversation about technolog
 y\, startups and the venture capital industry in Israel.\n\n\n\nDubbed
  the Start-up Nation\, Israel boasts one of the most exciting and inno
 vative high-tech sectors in the world with a capacity for innovation w
 hich has been said to rival the Silicon Valley. As the pace of change 
 in technology has accelerated exponentially year on year around the wo
 rld\, Israeli startups and technology have taken a significant part in
  our technology evolution.\n\n\n\nThis event provides attendees with a
 n overview of the innovation ecosystem in Israel\, current and future 
 trends and areas of greatest opportunity and a glimpse into the next b
 ig startups coming out of Israel. With companies such as Wix\, Kaltura
 \, Dapper\, Worklight\, Clicktale\, Watchdox\, Sales Predict\, SkyCure
  and CyActive\, Geektime conferences Startup Arena competition has an 
 alumni track record of over $800M in Funding and of $1.7B in M&As and 
 IPOs.\n\n\nFor more details and full agenda\n\n\nStay updated on lates
 t changes at the conference website: https://geektime-conference-2016.
 events.co.il/home
LAST-MODIFIED:20200525T145851
LOCATION:David InterContinental\, 12 Kaufman Street\, Tel Aviv
ORGANIZER;CN=People & Computers:mailto:events@thepeople.co.il
SUMMARY:Geektime Conference 2016
URL:https://geektime-conference-2016.events.co.il/home
BEGIN:VALARM
ACTION:DISPLAY
TRIGGER:-P1D
DESCRIPTION:REMINDER
SUMMARY:Geektime Conference 2016 Tomorrow At 09:00!
END:VALARM
END:VEVENT
END:VCALENDAR
