BEGIN:VCALENDAR

PRODID:icalendar-ruby
CALSCALE:GREGORIAN
METHOD:REQUEST
BEGIN:VEVENT
DTSTAMP:20210625T112605Z
UID:fc0d05ad-e659-45a1-a864-398090c3a79c
DTSTART:20170227T060000Z
DTEND:20170227T120000Z
DESCRIPTION:\n\nכנס והתערוכה בינלאומית לתקשוב בחינוך\n\nוהשנה בסימןהשפ
 עת עולם הלמידה והשילוב של הטכנולוגיה על עתיד התעסוקה של תלמידי ישראל.\
 n\nכנס EDUTECH2017 בתקשוב בחינוך בשיתוף בין "אנשים ומחשבים" וקרן אתנה 
 להעצמת המורים בישראל יעסוק השנה בקשר בין חינוך\, טכנולוגיה ותעסוקה עתי
 דית\, השפעת הטכנולוגיה בתחום החינוך המיוחד ובתחום המדעים וכיצד לימוד ש
 פות יוכל לסייע לתלמידים בישראל להשתלב במעגל העבודה הגלובאלי.\n\nבין המ
 רצים והמברכים יהיו: \n\nמנכ"לית משרד החינוך\, מזכ"ל הסתדרות המורים\, מ
 נכ"ל בנק מסד\, אורחים מחו"ל ומומחים בתחומם בישראל\n\nבין המרצים וההרצא
 ות \n\n\n	\n	הקשר בין חינוך וטכנולוגיה\n	\n	\n	החינוך המיוחד כמוביל טכ
 נולוגי של התקשוב במערכת החינוך\n	\n	\n	החינוך למדעים בראי התקשוב\n	\n	
 \n	מדוע חשוב ללמוד שפות בסיוע הטכנולוגיה?\n	\n	\n	לצד ההרצאות\, והתצוג
 ות\, יוקצה אזור לסטארטאפים שמפתחים פתרונות מיוחדים לחינוך המיוחד\n	\n	
 \n	חדש: תחרות פיתוח סטארטאפים לחינוך המיוחד וילדים עם מוגבלויות.\n	\n\
 n\n\n\n\nאנו ממליצים להתעדכן באתר מידי פעם ולוודא שהמיקום או תאריך האי
 רוע לא שונה: https://edutech-2017.events.co.il/home
LAST-MODIFIED:20210531T141444
LOCATION:LAGO\, רחוב המאה ועשרים 6\, ראשון לציון 
ORGANIZER;CN=People & Computers:mailto:events@thepeople.co.il
SUMMARY:EDUTECH 2017
URL:https://edutech-2017.events.co.il/home
BEGIN:VALARM
ACTION:DISPLAY
TRIGGER:-P1D
DESCRIPTION:REMINDER
SUMMARY:EDUTECH 2017 מחר בשעה 08:00!
END:VALARM
END:VEVENT
END:VCALENDAR
