BEGIN:VCALENDAR

PRODID:icalendar-ruby
CALSCALE:GREGORIAN
METHOD:REQUEST
BEGIN:VEVENT
DTSTAMP:20211013T043047Z
UID:85d70ef7-6f61-4798-a1e2-e070d4b9dbf1
DTSTART:20160608T050000Z
DTEND:20160608T140000Z
DESCRIPTION:\n\nהכנס השנתי ה-20 העמותה לניהול פרויקטים בישראל\n\nמסלול
 י הכנס:\n\n\n	\n	תשתיות לאומיות\n	\n	\n	תעשיות ביטחוניות\n	\n	\n	טכנול
 וגיה הי-טק ו-IT\n	\n	\n	מחקר ומתודולוגיות\n	\n	\n	פרויקט השנה\n	\n\n\n
 \n\nההרשמה לכנס PMI 2017 נפתחה - הרשמו עכשיו בלינקhttps://pmi-2017.eve
 nts.co.il/home\n\nלוז באנגלית - לחץ כאן\n\n\n\n\nאנו ממליצים להתעדכן ב
 אתר מידי פעם ולוודא שהמיקום או תאריך האירוע לא שונה: https://pmi-2016.
 events.co.il/home
LAST-MODIFIED:20210721T101004
LOCATION:דייויד אינטרקונטיננטל\, קאופמן 12\, תל-אביב
ORGANIZER;CN=People & Computers:mailto:events@thepeople.co.il
SUMMARY:PMI 2016
URL:https://pmi-2016.events.co.il/home
BEGIN:VALARM
ACTION:DISPLAY
TRIGGER:-P1D
DESCRIPTION:REMINDER
SUMMARY:PMI 2016 מחר בשעה 08:00!
END:VALARM
END:VEVENT
END:VCALENDAR
