BEGIN:VCALENDAR
VERSION:2.0
PRODID:icalendar-ruby
CALSCALE:GREGORIAN
METHOD:REQUEST
BEGIN:VEVENT
DTSTAMP:20210529T125951Z
UID:08dcd551-d9ba-4b9f-8e8a-49eed8e3a6f8
DTSTART:20151013T053000Z
DTEND:20151013T090000Z
DESCRIPTION:\n\nמועדון המנמ"רים היוקרתי C3\n\nביקור טכנולוגי מקצועי מר
 תק לצד סיור מהנה באתרי ירושלים העתיקה והחדשה.\n\n\n\n\n\n\nאנו ממליצים
  להתעדכן באתר מידי פעם ולוודא שהמיקום או תאריך האירוע לא שונה: https:/
 /c3-2015-7.events.co.il/home
LAST-MODIFIED:20200525T145720
LOCATION:מוזיאון ירושלים
ORGANIZER;CN=People & Computers:mailto:events@thepeople.co.il
SUMMARY:מסורת וטכנולוגיה בירושלים
URL:https://c3-2015-7.events.co.il/home
BEGIN:VALARM
ACTION:DISPLAY
TRIGGER:-P1D
DESCRIPTION:REMINDER
SUMMARY:מסורת וטכנולוגיה בירושלים מחר בשעה 08:30!
END:VALARM
END:VEVENT
END:VCALENDAR
