BEGIN:VCALENDAR

PRODID:icalendar-ruby
CALSCALE:GREGORIAN
METHOD:REQUEST
BEGIN:VEVENT
DTSTAMP:20210529T125956Z
UID:e0f3fab8-651d-42da-8544-72db9bcd91ee
DTSTART:20150512T060000Z
DTEND:20150512T093000Z
DESCRIPTION:\n\nהסודות הטכנולוגיים שמאחורי "קוקה קולה"\n\nביקור טכנולו
 גי והצצה למערכות המידע של\n\nהחברה המרכזית לייצור משקאות קלים\n\n\n\n\
 n\n\n\n\n\n\n\n\nתמונות מהאירוע...\n\n\n45% Complete\n\n\n\n\n\n\n\n\n
 \nאנו ממליצים להתעדכן באתר מידי פעם ולוודא שהמיקום או תאריך האירוע לא 
 שונה: https://c3-2015-5.events.co.il/home
LAST-MODIFIED:20200525T150102
LOCATION:משרדי גוגל ישראל\, יגאל אלון 98\, תל אביב\, קומה 29
ORGANIZER;CN=People & Computers:mailto:events@thepeople.co.il
SUMMARY:מפגש פורום C3 
URL:https://c3-2015-5.events.co.il/home
BEGIN:VALARM
ACTION:DISPLAY
TRIGGER:-P1D
DESCRIPTION:REMINDER
SUMMARY:מפגש פורום C3  מחר בשעה 09:00!
END:VALARM
END:VEVENT
END:VCALENDAR
