BEGIN:VCALENDAR
VERSION:2.0
PRODID:icalendar-ruby
CALSCALE:GREGORIAN
METHOD:REQUEST
BEGIN:VEVENT
DTSTAMP:20210923T213718Z
UID:fa02f148-0bce-4897-875d-15232e2ba4b1
DTSTART:20150622T050000Z
DTEND:20150622T150000Z
DESCRIPTION:\n\nServer Side Development and Rock and Roll\n\n\n\nStay 
 updated on latest changes at the conference website: https://devcontlv
 june2015.events.co.il/home
LAST-MODIFIED:20210713T091638
LOCATION:OzenBar\, King George 48\, Tel Aviv
ORGANIZER;CN=People & Computers:mailto:events@thepeople.co.il
SUMMARY:DevconTLV June 2015
URL:https://devcontlvjune2015.events.co.il/home
BEGIN:VALARM
ACTION:DISPLAY
TRIGGER:-P1D
DESCRIPTION:REMINDER
SUMMARY:DevconTLV June 2015 Tomorrow At 08:00!
END:VALARM
END:VEVENT
END:VCALENDAR
