BEGIN:VCALENDAR
VERSION:2.0
PRODID:icalendar-ruby
CALSCALE:GREGORIAN
METHOD:REQUEST
BEGIN:VEVENT
DTSTAMP:20210923T213724Z
UID:7c3f0658-049d-4ea7-b90b-83d50fbf69d6
DTSTART:20151124T050000Z
DTEND:20151124T151500Z
DESCRIPTION:\n\nThe Largest Ruby Conference in the Middle East\n\n\n\n
 Stay updated on latest changes at the conference website: https://rail
 sisrael2015.events.co.il/home
LAST-MODIFIED:20210713T091638
LOCATION:Cinematheque\, Shprintsak 2\, Tel Aviv
ORGANIZER;CN=People & Computers:mailto:events@thepeople.co.il
SUMMARY:Rails Israel 2015
URL:https://railsisrael2015.events.co.il/home
BEGIN:VALARM
ACTION:DISPLAY
TRIGGER:-P1D
DESCRIPTION:REMINDER
SUMMARY:Rails Israel 2015 Tomorrow At 07:00!
END:VALARM
END:VEVENT
END:VCALENDAR
