BEGIN:VCALENDAR

PRODID:icalendar-ruby
CALSCALE:GREGORIAN
METHOD:REQUEST
BEGIN:VEVENT
DTSTAMP:20210923T213730Z
UID:2a4e240f-0bb9-4e37-b73b-d75091761d51
DTSTART:20150312T053000Z
DTEND:20150312T140000Z
DESCRIPTION:\n\n\n\n\n\nStay updated on latest changes at the conferen
 ce website: https://devcontlv-march2015.events.co.il/people
LAST-MODIFIED:20210713T091640
LOCATION:OzenBar\, King George 48\, Tel Aviv
ORGANIZER;CN=People & Computers:mailto:events@thepeople.co.il
SUMMARY:DevconTLV March 
URL:https://devcontlv-march2015.events.co.il/people
BEGIN:VALARM
ACTION:DISPLAY
TRIGGER:-P1D
DESCRIPTION:REMINDER
SUMMARY:DevconTLV March  Tomorrow At 07:30!
END:VALARM
END:VEVENT
END:VCALENDAR
