BEGIN:VCALENDAR

PRODID:icalendar-ruby
CALSCALE:GREGORIAN
METHOD:REQUEST
BEGIN:VEVENT
DTSTAMP:20211020T144622Z
UID:8e831410-8195-4252-b13e-a1571df7efd2
DTSTART:20151129T050000Z
DTEND:20151129T140000Z
DESCRIPTION:\n\n 2015 הוועידה השנתית הבינלאומית ה-2 להדפסת תלת מימד\n\
 nבעקבות ההצלחה של כנסההדפסה התלת מימדית בשנה שעברה\, אנשים ומחשבים גאה
  להציג את הוועידה השנתית השנייה להדפסה תלת ממדית.\n\nהשנה נתמקד בעסקים
 \, בתעשייה\, בחינוך וברפואה.\n\nהוועידה הלאומית השנתית השנייה להדפסה ת
 לת ממדית תכנס את טובי המומחים בישראל שיציגו מגוון פתרונות וטכנולוגיות 
 להדפסה תלת ממדית תחת קורת גג אחת!\n\nהשנה בכוונתנו לחלק את הכנס למליאה
  ומושבים מתמחים.\n\nבסמוך לכנס תיערך תצוגה של מדפסות\, עבודות וטכנולוג
 יות להדפסה תלת ממדית ותצוגת עבודות הדפסה של בוגרי ג'ון ברייס-מדיאטק\n\
 n\n\n\nאנו ממליצים להתעדכן באתר מידי פעם ולוודא שהמיקום או תאריך האירו
 ע לא שונה: https://3d-2015.events.co.il/home
LAST-MODIFIED:20210713T091639
LOCATION:אווניו מרכז אירועים וקונגרסים\, קרית שדה התעופה
ORGANIZER;CN=People & Computers:mailto:events@thepeople.co.il
SUMMARY:3D Printing Israel 2015
URL:https://3d-2015.events.co.il/home
BEGIN:VALARM
ACTION:DISPLAY
TRIGGER:-P1D
DESCRIPTION:REMINDER
SUMMARY:3D Printing Israel 2015 מחר בשעה 07:00!
END:VALARM
END:VEVENT
END:VCALENDAR
