BEGIN:VCALENDAR

PRODID:icalendar-ruby
CALSCALE:GREGORIAN
METHOD:REQUEST
BEGIN:VEVENT
DTSTAMP:20210606T125613Z
UID:3b1363f9-8dd3-4bb9-97d2-f1608473f5fa
DTSTART:20131126T210000Z
DTEND:20131126T210000Z
DESCRIPTION:\n\n\n\n\n\nאנו ממליצים להתעדכן באתר מידי פעם ולוודא שהמיק
 ום או תאריך האירוע לא שונה: https://formit-2013.events.co.il/save-the-
 date
LAST-MODIFIED:20201229T133313
LOCATION:סטוקו ג'וניור\, רח' שטרית 2\, ת"א
ORGANIZER;CN=People & Computers:mailto:events@thepeople.co.il
SUMMARY:FORMIT-2013
URL:https://formit-2013.events.co.il/save-the-date
BEGIN:VALARM
ACTION:DISPLAY
TRIGGER:-P1D
DESCRIPTION:REMINDER
SUMMARY:FORMIT-2013 מחר בשעה 23:00!
END:VALARM
END:VEVENT
END:VCALENDAR
