BEGIN:VCALENDAR
VERSION:2.0
PRODID:icalendar-ruby
CALSCALE:GREGORIAN
METHOD:REQUEST
BEGIN:VEVENT
DTSTAMP:20210606T125607Z
UID:2f334559-0e78-4692-8c1e-28f2f5c0e20b
DTSTART:20131209T210000Z
DTEND:20131209T210000Z
DESCRIPTION:\n\n\n\n\n\nStay updated on latest changes at the conferen
 ce website: https://salesforce-blat-lapidot.events.co.il/save-the-date
LAST-MODIFIED:20210203T090939
LOCATION:דיוויד אינטרקונטיננטל\, תל אביב
ORGANIZER;CN=People & Computers:mailto:events@thepeople.co.il
SUMMARY:SALESFORCE& BLAT LAPIDOT
URL:https://salesforce-blat-lapidot.events.co.il/save-the-date
BEGIN:VALARM
ACTION:DISPLAY
TRIGGER:-P1D
DESCRIPTION:REMINDER
SUMMARY:SALESFORCE& BLAT LAPIDOT Tomorrow At 23:00!
END:VALARM
END:VEVENT
END:VCALENDAR
