BEGIN:VCALENDAR
VERSION:2.0
PRODID:icalendar-ruby
CALSCALE:GREGORIAN
METHOD:REQUEST
BEGIN:VEVENT
DTSTAMP:20211020T144601Z
UID:303eaf4e-97b6-4bf8-b2b6-1ed00e1a020d
DTSTART:20211028T083000Z
DTEND:20211028T140000Z
DESCRIPTION:\n\nJoin us at the Red Hat Pizza and Technology 2021 \n\nF
 or the past 16 years Matrix open source has been hosting Red Hat Pizza
  & Technology event\nWe are excited this year\, especially since we wi
 ll be meeting face to face after a very long time\n\nWe will start wit
 h lunch\, mingling and networking\, followed by all the latest news fr
 om the Red Hat\, discussing topics such as OpenShift\, DevOps\, Cloud 
 Native\, Security-related and Data challenges\n\nFor the first time we
  will host Red Hat operators for sessions on the added value for organ
 izations using OpenShift as a platform\n\nDynatrace | Nutanix | Checkm
 arx | Cloudera\n\nAnd...\n\nNo Red Hat Pizza event would be complete w
 ithout a bonus private screening of the new and recommended film -Dune
 \n\nThe event is intended for System engineers\, DevOps personal\, Clo
 ud managers and Red Hat customers\n\nA Green Pass must be presented at
  the entrance. Participation will not be permitted without it\n\n\n\n\
 nStay updated on latest changes at the conference website: https://red
 -hat-pizza-2021.events.co.il/home
LAST-MODIFIED:20211020T030401
LOCATION:Cinema City Glilot\, On Route 2 intersection Glilot Ramat Has
 haron
ORGANIZER;CN=People & Computers:mailto:events@thepeople.co.il
SUMMARY: Red Hat Pizza and Technology 2021
URL:https://red-hat-pizza-2021.events.co.il/home
BEGIN:VALARM
ACTION:DISPLAY
TRIGGER:-P1D
DESCRIPTION:REMINDER
SUMMARY: Red Hat Pizza and Technology 2021 Tomorrow At 11:30!
END:VALARM
END:VEVENT
END:VCALENDAR
