BEGIN:VCALENDAR
VERSION:2.0
PRODID:icalendar-ruby
CALSCALE:GREGORIAN
METHOD:REQUEST
BEGIN:VEVENT
DTSTAMP:20210909T224656Z
UID:cd8de9f3-5d5d-4f46-936a-56febb3b7423
DTSTART:20210425T070000Z
DTEND:20210425T090000Z
DESCRIPTION:\n\nהצטרפו למפגש מקצועי של פורום CSC\, בהשתתפות מרצים בכיר
 ים בתחום\, שיתארו ויספרו מנסיונם כיצד הארגון שלכם יכול לשמור על החוסן 
 העסקי שלו\, ולשרוד.\n\nחוסן עסקי מתחיל בהבנה שיש לשמור על תהליכי עבודה
  רציפים\, להטמיע אותם\, על מנת שארגונים ישרדו אירועים בלתי צפויים.\n\n
 התפיסה כיום היא\, שאין מדובר רק בתהליכים שקשורים לאבטחה רגילים\, אלא ב
 אסטרטגיה שכוללת הבנת תהליכי עבודה\, אתגרים אנושיים\, ותכנון עסקי המכיל
  בתוכו הערכות למצבי משבר\,\n\nשיאפשרו לארגון להתאושש במהירות.\n\nהצטרפ
 ו למפגש מקצועי של פורום CSC\, בהשתתפות מרצים בכירים בתחום\, שיתארו ויס
 פרו מנסיונם כיצד הארגון שלכם יכול לשמור על החוסן העסקי שלו\, ולשרוד.\n
 \n\nאנו ממליצים להתעדכן באתר מידי פעם ולוודא שהמיקום או תאריך האירוע ל
 א שונה: https://business-resiliency-csc.events.co.il/home
LAST-MODIFIED:20210712T134810
LOCATION:אונליין
ORGANIZER;CN=People & Computers:mailto:events@thepeople.co.il
SUMMARY:Business Resiliency
URL:https://business-resiliency-csc.events.co.il/home
BEGIN:VALARM
ACTION:DISPLAY
TRIGGER:-P1D
DESCRIPTION:REMINDER
SUMMARY:Business Resiliency מחר בשעה 10:00!
END:VALARM
END:VEVENT
END:VCALENDAR
