BEGIN:VCALENDAR

PRODID:icalendar-ruby
CALSCALE:GREGORIAN
METHOD:REQUEST
BEGIN:VEVENT
DTSTAMP:20210911T145241Z
UID:12690352-390e-4b00-ab2f-d7cdcc4d517d
DTSTART:20210428T063000Z
DTEND:20210428T083000Z
DESCRIPTION:\n\nהשנה האחרונה הביאה את מנהלי מערכות המידע של רשויות מקו
 מיות\, לעמוד בחזית ניהול משבר בריאותי כלל עולמי\n\nחברות HPE ו-ONE מזמ
 ינות אתכם למפגש בכירים שיציג טכנולוגיות מתקדמות המסייעות בניהול מוניצי
 פלי\n\nהאירוע מתקיים לפי תנאי התו הסגול וההשתתפות מותנית בהצגת תעודת ת
 ו ירוק\n\n\nאנו ממליצים להתעדכן באתר מידי פעם ולוודא שהמיקום או תאריך 
 האירוע לא שונה: https://one-hpe.events.co.il/home
LAST-MODIFIED:20210428T030123
LOCATION:סטוקו \, רח' שטרית 2\, ת"א
ORGANIZER;CN=People & Computers:mailto:events@thepeople.co.il
SUMMARY:טכנולוגיה כמנוף לניהול מוניציפלי\, בעידן של פוסט קורונה
URL:https://one-hpe.events.co.il/home
BEGIN:VALARM
ACTION:DISPLAY
TRIGGER:-P1D
DESCRIPTION:REMINDER
SUMMARY:טכנולוגיה כמנוף לניהול מוניציפלי\, בעידן של פוסט קורונה מחר בש
 עה 09:30!
END:VALARM
END:VEVENT
END:VCALENDAR
