BEGIN:VCALENDAR

PRODID:icalendar-ruby
CALSCALE:GREGORIAN
METHOD:REQUEST
BEGIN:VEVENT
DTSTAMP:20210422T192255Z
UID:62a98e17-a952-4d17-86b4-875aa5ceaf46
DTSTART:20210308T080000Z
DTEND:20210308T093000Z
DESCRIPTION:\n\nבדגש על אלימות נגד נשים - לא פוסחת על אף מגזר\n\nפורום
  WIT חוזר להמשיך להעניק תכנים מעצימים לקהילת הנשים המובילות בתעשיית ה-
 IT.\n\n\nאנו ממליצים להתעדכן באתר מידי פעם ולוודא שהמיקום או תאריך האי
 רוע לא שונה: https://wit-4-meeting.events.co.il/home
LAST-MODIFIED:20210308T234200
LOCATION:אונליין
ORGANIZER;CN=People & Computers:mailto:events@thepeople.co.il
SUMMARY:פורום הנשים WIT: מפגש מיוחד לרגל יום האישה 2021
URL:https://wit-4-meeting.events.co.il/home
BEGIN:VALARM
ACTION:DISPLAY
TRIGGER:-P1D
DESCRIPTION:REMINDER
SUMMARY:פורום הנשים WIT: מפגש מיוחד לרגל יום האישה 2021 מחר בשעה 10:00
 !
END:VALARM
END:VEVENT
END:VCALENDAR
