BEGIN:VCALENDAR

PRODID:icalendar-ruby
CALSCALE:GREGORIAN
METHOD:REQUEST
BEGIN:VEVENT
DTSTAMP:20210423T121828Z
UID:1bbf844a-459e-4934-9396-6f2e34003f28
DTSTART:20210311T070000Z
DTEND:20210311T080000Z
DESCRIPTION:\n\nSAP וחברת Globeacon שמחים לארח את פורום מנהלי אבטחת מי
 דע של ישראל למפגש ייחודי בו נציג את אפשרויות הארגון לצמצום חשיפה בפני 
 פגיעה במערכות SAP כהכנה לקראת סקר סיכונים \n\nבחודשים האחרונים אנו עדי
 ם ליותר ויותר מקרים בהם תוקפי סייבר מנצלים נקודות חולשה שונות בארגון ו
 על ידי כך מצליחים להגיע למערכות המידע בהם נאגר מידע רגיש ולהשתמש בו למ
 טרות סחיטה ופגיעה.\n\nמעבר לפגיעה תדמיתית קשה\, ארגונים שנפרצו נאלצים 
 להשקיע משאבים רבים לטיפול באירוע התקיפה ולוודא שמקרים כאלו לא יישנו.\n
 \nבוובינר אנו נסקור נקודות חולשה שונות בתהליכי הטמעת מערכות SAP בדגש ע
 ל מחלקת IT בארגונים ונציע דרכים לצמצם את החשיפה ולשפר את אבטחת המידע ב
 מערכות אלו.\n\n\nאנו ממליצים להתעדכן באתר מידי פעם ולוודא שהמיקום או ת
 אריך האירוע לא שונה: https://csc-sap-2021.events.co.il/home
LAST-MODIFIED:20210311T234135
LOCATION:אונליין
ORGANIZER;CN=People & Computers:mailto:events@thepeople.co.il
SUMMARY:מערכות SAP וסקרי סיכונים -אתגרים ופתרונות
URL:https://csc-sap-2021.events.co.il/home
BEGIN:VALARM
ACTION:DISPLAY
TRIGGER:-P1D
DESCRIPTION:REMINDER
SUMMARY:מערכות SAP וסקרי סיכונים -אתגרים ופתרונות מחר בשעה 09:00!
END:VALARM
END:VEVENT
END:VCALENDAR
