BEGIN:VCALENDAR

PRODID:icalendar-ruby
CALSCALE:GREGORIAN
METHOD:REQUEST
BEGIN:VEVENT
DTSTAMP:20210423T140247Z
UID:e35b70d6-a8d3-43ea-b1b5-a99dfa97f7d0
DTSTART:20210222T080000Z
DTEND:20210222T100000Z
DESCRIPTION:\n\nבתפקיד הקפטנים המקצועיים של הארגון\, קשה לנווט היום בי
 ם סוער מלא סכנות. \n\nלאור המלצות מערך הסייבר הלאומי להגבהת החומות באר
 גונים ועל רקע תקיפות הולכות וגוברות\, אנשים ומחשבים שמחים להזמין אתכם 
 למפגש שכולו אסטרטגיה פרקטית למיגון הארגון מתקיפות  Ransomware.\n\nבמפג
 ש נבצע סקירה רוחבית של הדרכים והשיטות להכין את הארגון לתקיפת Ransomwar
 e\, נצביע על מגוון חולשות מוכרות יותר או פחות\, נדון ביכולות הארגון לה
 יות בלם או זרז בפני עצמו לתקיפה\,\n\nובין השאר נבין כיצד ניתן לקיים שג
 רת עבודה לפני\, בזמן ואחרי המתקפה\, שכידוע אינה שאלה של האם אלא של מתי
 .\n\nאנו נעמיק ב- best practices בתחום באמצעות הוונדורים המתמחים.\n\n\
 n\n\n\n\nאנו ממליצים להתעדכן באתר מידי פעם ולוודא שהמיקום או תאריך האי
 רוע לא שונה: https://ransomware-toolbox.events.co.il/home
LAST-MODIFIED:20210418T115227
LOCATION:אונליין
ORGANIZER;CN=People & Computers:mailto:events@thepeople.co.il
SUMMARY:Ransomware Toolbox
URL:https://ransomware-toolbox.events.co.il/home
BEGIN:VALARM
ACTION:DISPLAY
TRIGGER:-P1D
DESCRIPTION:REMINDER
SUMMARY:Ransomware Toolbox מחר בשעה 10:00!
END:VALARM
END:VEVENT
END:VCALENDAR
